Workbook

Sheet Índice
B4: Capítulo VIII. Formación de personal de los Servicios de Salud
B5: Glosario | C5: Glosario de términos.
B6: Cuadro No. VIII.1 | C6: Formación de personal profesional y técnico en áreas de la salud de 2000 - 2025.
B7: Cuadro No. VIII.2 | C7: Médicos en cursos de especialización de 2000 - 2025.
B8: Cuadro No. VIII.3 | C8: Internado de medicina de 2000 - 2025.
B9: Cuadro No. VIII.4 | C9: Pasantes en servicio social de 2000 - 2025.
B10: Cuadro No. VIII.5 | C10: Enfermeras en cursos de especialización de 2000 - 2025.
B11: Cuadro No. VIII.6 | C11: Enfermería básica de 2000 - 2025.
B12: Cuadro No. VIII.7 | C12: Personal auxiliar de 2000 - 2025.
B13: Cuadro No. VIII.8 | C13: Formación de personal técnico en salud de 2000 - 2025.
B14: Cuadro No. VIII.9 | C14: Formación de profesores en el área de la salud de 2000 - 2025.
B15: Cuadro No. VIII.10 | C15: Metas abiertas durante 2003, seguimiento al 2025.

Sheet Glosario
B3: Glosario de términos.

Sheet VIII.1
A2: Cuadro No. VIII.1
A3: Formación de personal profesional y técnico en áreas de la salud de 2000 - 2025.
A4: OOAD | B4: 2000 | C4: 2001 | D4: 2002 | E4: 2003 | F4: 2004 | G4: 2005 | H4: 2006 | I4: 2007 | J4: 2008 | K4: 2009 | L4: 2010 | M4: 2011 | N4: 2012 | O4: 2013 | P4: 2014 | Q4: 2015 | R4: 2016 | S4: 2017 | T4: 2018 | U4: 2019 | V4: 2020 | W4: 2021 | X4: 2022 | Y4: 2023 | Z4: 2024 | AA4: 2025
A7: Total
B8: 17096 | C8: 18752 | D8: 17800 | E8: 17089 | F8: 17605 | G8: 18098 | H8: 18087 | I8: 20950 | J8: 24001 | K8: 26531 | L8: 27457 | M8: 28429 | N8: 29029 | O8: 30627 | P8: 31942 | Q8: 33674 | R8: 34775 | S8: 37959 | T8: 39969 | U8: 40481 | V8: 44320 | W8: 44776 | X8: 47572 | Y8: 54002 | Z8: 53729 | AA8: 57754
A10: Aguascalientes | B10: 143 | C10: 163 | D10: 177 | E10: 153 | F10: 181 | G10: 230 | H10: 188 | I10: 213 | J10: 244 | K10: 348 | L10: 353 | M10: 415 | N10: 480 | O10: 391 | P10: 396 | Q10: 458 | R10: 515 | S10: 515 | T10: 627 | U10: 658 | V10: 663 | W10: 771 | X10: 799 | Y10: 937 | Z10: 928 | AA10: =VIII.2!AA10+VIII.3!AA10+VIII.4!AA10+VIII.5!AA10+VIII.6!AA10+VIII.7!AA10+VIII.8!AA10+VIII.9!AA10+VIII.10!CB10+VIII.10!CC10+VIII.10!CD10 -> 994
A11: Baja California | B11: 338 | C11: 528 | D11: 485 | E11: 467 | F11: 499 | G11: 496 | H11: 481 | I11: 504 | J11: 757 | K11: 656 | L11: 739 | M11: 830 | N11: 871 | O11: 921 | P11: 993 | Q11: 1031 | R11: 1085 | S11: 1295 | T11: 1404 | U11: 1399 | V11: 1807 | W11: 1571 | X11: 1737 | Y11: 1822 | Z11: 1807 | AA11: =VIII.2!AA11+VIII.3!AA11+VIII.4!AA11+VIII.5!AA11+VIII.6!AA11+VIII.7!AA11+VIII.8!AA11+VIII.9!AA11+VIII.10!CB11+VIII.10!CC11+VIII.10!CD11 -> 1828
A12: Baja California Sur | B12: 43 | C12: 59 | D12: 63 | E12: 55 | F12: 61 | G12: 68 | H12: 30 | I12: 40 | J12: 51 | K12: 69 | L12: 121 | M12: 101 | N12: 119 | O12: 135 | P12: 139 | Q12: 144 | R12: 179 | S12: 196 | T12: 256 | U12: 260 | V12: 262 | W12: 273 | X12: 274 | Y12: 276 | Z12: 325 | AA12: =VIII.2!AA12+VIII.3!AA12+VIII.4!AA12+VIII.5!AA12+VIII.6!AA12+VIII.7!AA12+VIII.8!AA12+VIII.9!AA12+VIII.10!CB12+VIII.10!CC12+VIII.10!CD12 -> 354
A13: Campeche | B13: 93 | C13: 102 | D13: 106 | E13: 116 | F13: 145 | G13: 217 | H13: 149 | I13: 141 | J13: 205 | K13: 308 | L13: 215 | M13: 243 | N13: 211 | O13: 185 | P13: 193 | Q13: 194 | R13: 198 | S13: 277 | T13: 510 | U13: 522 | V13: 276 | W13: 375 | X13: 393 | Y13: 374 | Z13: 418 | AA13: =VIII.2!AA13+VIII.3!AA13+VIII.4!AA13+VIII.5!AA13+VIII.6!AA13+VIII.7!AA13+VIII.8!AA13+VIII.9!AA13+VIII.10!CB13+VIII.10!CC13+VIII.10!CD13 -> 397
A14: Coahuila | B14: 536 | C14: 589 | D14: 551 | E14: 557 | F14: 675 | G14: 655 | H14: 550 | I14: 838 | J14: 885 | K14: 963 | L14: 952 | M14: 905 | N14: 979 | O14: 1014 | P14: 1102 | Q14: 1336 | R14: 1143 | S14: 1216 | T14: 1743 | U14: 1880 | V14: 1555 | W14: 1503 | X14: 1598 | Y14: 1832 | Z14: 1899 | AA14: =VIII.2!AA14+VIII.3!AA14+VIII.4!AA14+VIII.5!AA14+VIII.6!AA14+VIII.7!AA14+VIII.8!AA14+VIII.9!AA14+VIII.10!CB14+VIII.10!CC14+VIII.10!CD14 -> 1945
A15: Colima | B15: 90 | C15: 113 | D15: 123 | E15: 153 | F15: 127 | G15: 129 | H15: 100 | I15: 89 | J15: 156 | K15: 227 | L15: 272 | M15: 227 | N15: 198 | O15: 280 | P15: 277 | Q15: 512 | R15: 311 | S15: 369 | T15: 622 | U15: 654 | V15: 458 | W15: 571 | X15: 566 | Y15: 587 | Z15: 618 | AA15: =VIII.2!AA15+VIII.3!AA15+VIII.4!AA15+VIII.5!AA15+VIII.6!AA15+VIII.7!AA15+VIII.8!AA15+VIII.9!AA15+VIII.10!CB15+VIII.10!CC15+VIII.10!CD15 -> 628
A16: Chiapas | B16: 396 | C16: 551 | D16: 389 | E16: 388 | F16: 267 | G16: 637 | H16: 364 | I16: 500 | J16: 480 | K16: 686 | L16: 710 | M16: 937 | N16: 655 | O16: 768 | P16: 794 | Q16: 777 | R16: 894 | S16: 1014 | T16: 1076 | U16: 1045 | V16: 1086 | W16: 1204 | X16: 1240 | Y16: 1295 | Z16: 1027 | AA16: =VIII.2!AA16+VIII.3!AA16+VIII.4!AA16+VIII.5!AA16+VIII.6!AA16+VIII.7!AA16+VIII.8!AA16+VIII.9!AA16+VIII.10!CB16+VIII.10!CC16+VIII.10!CD16 -> 1013
A17: Chihuahua | B17: 387 | C17: 464 | D17: 413 | E17: 426 | F17: 464 | G17: 419 | H17: 388 | I17: 539 | J17: 588 | K17: 615 | L17: 740 | M17: 660 | N17: 688 | O17: 734 | P17: 722 | Q17: 512 | R17: 938 | S17: 948 | T17: 1010 | U17: 879 | V17: 1193 | W17: 1265 | X17: 1527 | Y17: 1769 | Z17: 1806 | AA17: =VIII.2!AA17+VIII.3!AA17+VIII.4!AA17+VIII.5!AA17+VIII.6!AA17+VIII.7!AA17+VIII.8!AA17+VIII.9!AA17+VIII.10!CB17+VIII.10!CC17+VIII.10!CD17 -> 1970
A18: CDMX Norte | B18: 1579 | C18: 1830 | D18: 1542 | E18: 1558 | F18: 1401 | G18: 1397 | H18: 1385 | I18: 1454 | J18: 1617 | K18: 1692 | L18: 1802 | M18: 1969 | N18: 1952 | O18: 1926 | P18: 2178 | Q18: 2336 | R18: 2402 | S18: 2455 | T18: 2606 | U18: 2729 | V18: 2930 | W18: 2702 | X18: 3069 | Y18: 3503 | Z18: 3377 | AA18: =VIII.2!AA18+VIII.3!AA18+VIII.4!AA18+VIII.5!AA18+VIII.6!AA18+VIII.7!AA18+VIII.8!AA18+VIII.9!AA18+VIII.10!CB18+VIII.10!CC18+VIII.10!CD18 -> 4070
A19: CDMX Sur | B19: 2199 | C19: 2208 | D19: 2003 | E19: 2010 | F19: 1971 | G19: 1874 | H19: 2043 | I19: 2078 | J19: 2338 | K19: 2445 | L19: 2465 | M19: 2478 | N19: 2731 | O19: 2594 | P19: 2852 | Q19: 2965 | R19: 3071 | S19: 3466 | T19: 3376 | U19: 3576 | V19: 3983 | W19: 3591 | X19: 3893 | Y19: 4664 | Z19: 4449 | AA19: =VIII.2!AA19+VIII.3!AA19+VIII.4!AA19+VIII.5!AA19+VIII.6!AA19+VIII.7!AA19+VIII.8!AA19+VIII.9!AA19+VIII.10!CB19+VIII.10!CC19+VIII.10!CD19 -> 5077
A20: Durango | B20: 263 | C20: 312 | D20: 278 | E20: 256 | F20: 380 | G20: 363 | H20: 326 | I20: 407 | J20: 400 | K20: 537 | L20: 608 | M20: 318 | N20: 526 | O20: 573 | P20: 535 | Q20: 554 | R20: 583 | S20: 639 | T20: 653 | U20: 674 | V20: 709 | W20: 801 | X20: 780 | Y20: 801 | Z20: 911 | AA20: =VIII.2!AA20+VIII.3!AA20+VIII.4!AA20+VIII.5!AA20+VIII.6!AA20+VIII.7!AA20+VIII.8!AA20+VIII.9!AA20+VIII.10!CB20+VIII.10!CC20+VIII.10!CD20 -> 1014
A21: Guanajuato | B21: 526 | C21: 585 | D21: 583 | E21: 506 | F21: 572 | G21: 613 | H21: 668 | I21: 797 | J21: 1008 | K21: 980 | L21: 1095 | M21: 963 | N21: 1277 | O21: 1373 | P21: 1321 | Q21: 1450 | R21: 1369 | S21: 1538 | T21: 1279 | U21: 1506 | V21: 1713 | W21: 1788 | X21: 1881 | Y21: 2031 | Z21: 2077 | AA21: =VIII.2!AA21+VIII.3!AA21+VIII.4!AA21+VIII.5!AA21+VIII.6!AA21+VIII.7!AA21+VIII.8!AA21+VIII.9!AA21+VIII.10!CB21+VIII.10!CC21+VIII.10!CD21 -> 2485
... A44: Zacatecas | B44: 274 | C44: 278 | D44: 351 | E44: 291 | F44: 342 | G44: 243 | H44: 309 | I44: 451 | J44: 518 | K44: 512 | L44: 512 | M44: 540 | N44: 518 | O44: 527 | P44: 487 | Q44: 558 | R44: 571 | S44: 557 | T44: 653 | U44: 655 | V44: 668 | W44: 736 | X44: 733 | Y44: 632 | Z44: 622 | AA44: =VIII.2!AA44+VIII.3!AA44+VIII.4!AA44+VIII.5!AA44+VIII.6!AA44+VIII.7!AA44+VIII.8!AA44+VIII.9!AA44+VIII.10!CB44+VIII.10!CC44+VIII.10!CD44 -> 612
I45: 0 | K45: 0 | O45: 0 | R45: 0 | S45: 0 | T45: 0 | U45: 0 | V45: 0 | W45: 0 | X45: 0 | Y45: 0 | Z45: 0 | AA45: =VIII.2!AA45+VIII.3!AA45+VIII.4!AA45+VIII.5!AA45+VIII.6!AA45+VIII.7!AA45+VIII.8!AA45+VIII.9!AA45+VIII.10!CB45+VIII.10!CC45+VIII.10!CD45 -> 0
A46: Jefaturas Normativas | B46: 29 | C46: 23 | D46: 21 | E46: 22 | F46: 40 | G46: 55 | H46: 93 | I46: 104 | J46: 53 | K46: 67 | L46: 53 | M46: 65 | N46: 25 | O46: 60 | P46: 45 | Q46: 42 | R46: 50 | S46: 38 | T46: 44 | U46: 42 | V46: 34 | W46: 26 | X46: 6 | Y46: 14 | Z46: 6 | AA46: =VIII.2!AA46+VIII.3!AA46+VIII.4!AA46+VIII.5!AA46+VIII.6!AA46+VIII.7!AA46+VIII.8!AA46+VIII.9!AA46+VIII.10!CB46+VIII.10!CC46+VIII.10!CD46 -> 18
A48: OOAD.- Órgano de Operación Administrativa Desconcentrada. Los referidos en el artículo 251 A, del Acdo.SA2.HCT.250718/195 publicado en el D.O.F. 28/08/2018. Antes se denominaban Delegaciones.
A49: Fuente: Coordinación de Educación en Salud

Sheet VIII.2
A1: ok
A2: Cuadro No. VIII. 2
A3: Médicos en cursos de especialización de 2000 - 2025.
A4: OOAD | B4: 2000 | C4: 2001 | D4: 2002 | E4: 2003 | F4: 2004 | G4: 2005 | H4: 2006 | I4: 2007 | J4: 2008 | K4: 2009 | L4: 2010 | M4: 2011 | N4: 2012 | O4: 2013 | P4: 2014 | Q4: 2015 | R4: 2016 | S4: 2017 | T4: 2018 | U4: 2019 | V4: 2020 | W4: 2021 | X4: 2022 | Y4: 2023 | Z4: 2024 | AA4: 2025
A7: Total
B8: 5997 | C8: 6132 | D8: 5867 | E8: 5986 | F8: 6237 | G8: 6347 | H8: 6173 | I8: 6446 | J8: 8116 | K8: 9243 | L8: 10026 | M8: 10837 | N8: 10776 | O8: 11534 | P8: 11751 | Q8: 11876 | R8: 11907 | S8: 13643 | T8: 14910 | U8: 15744 | V8: 17917 | W8: 21413 | X8: 24783 | Y8: 26357 | Z8: 26964 | AA8: 25360
A10: Aguascalientes | B10: 38 | C10: 51 | D10: 51 | E10: 71 | F10: 74 | G10: 69 | H10: 69 | I10: 75 | J10: 90 | K10: 99 | L10: 101 | M10: 88 | N10: 84 | O10: 84 | P10: 81 | Q10: 85 | R10: 101 | S10: 119 | T10: 159 | U10: 189 | V10: 231 | W10: 347 | X10: 404 | Y10: 471 | Z10: 474 | AA10: 446
A11: Baja California | B11: 28 | C11: 35 | D11: 41 | E11: 50 | F11: 50 | G11: 53 | H11: 54 | I11: 54 | J11: 68 | K11: 101 | L11: 138 | M11: 182 | N11: 185 | O11: 188 | P11: 186 | Q11: 190 | R11: 201 | S11: 236 | T11: 259 | U11: 255 | V11: 348 | W11: 487 | X11: 606 | Y11: 532 | Z11: 540 | AA11: 473
A12: Baja California Sur | B12: 16 | C12: 35 | D12: 41 | E12: 42 | F12: 43 | G12: 45 | H12: 2 | I12: 2 | J12: 0 | L12: 0 | M12: 10 | N12: 20 | O12: 36 | P12: 39 | Q12: 43 | R12: 42 | S12: 57 | T12: 68 | U12: 73 | V12: 75 | W12: 116 | X12: 113 | Y12: 90 | Z12: 91 | AA12: 75
A13: Campeche | B13: 11 | C13: 23 | D13: 28 | E13: 38 | F13: 43 | G13: 48 | H13: 39 | I13: 37 | J13: 50 | K13: 54 | L13: 55 | M13: 75 | N13: 59 | O13: 49 | P13: 44 | Q13: 44 | R13: 40 | S13: 50 | T13: 59 | U13: 74 | V13: 111 | W13: 167 | X13: 208 | Y13: 154 | Z13: 157 | AA13: 108
A14: Coahuila | B14: 228 | C14: 232 | D14: 223 | E14: 233 | F14: 257 | G14: 259 | H14: 271 | I14: 280 | J14: 344 | K14: 379 | L14: 393 | M14: 419 | N14: 436 | O14: 474 | P14: 484 | Q14: 485 | R14: 468 | S14: 577 | T14: 618 | U14: 692 | V14: 778 | W14: 775 | X14: 917 | Y14: 1026 | Z14: 1046 | AA14: 1068
A15: Colima | B15: 10 | C15: 20 | D15: 28 | E15: 34 | F15: 36 | G15: 38 | H15: 29 | I15: 39 | J15: 52 | K15: 62 | L15: 77 | M15: 74 | N15: 76 | O15: 82 | P15: 75 | Q15: 78 | R15: 77 | S15: 101 | T15: 129 | U15: 164 | V15: 191 | W15: 262 | X15: 226 | Y15: 238 | Z15: 246 | AA15: 248
A16: Chiapas | B16: 12 | C16: 25 | D16: 29 | E16: 32 | F16: 39 | G16: 42 | H16: 42 | I16: 36 | J16: 47 | K16: 53 | L16: 103 | M16: 136 | N16: 105 | O16: 154 | P16: 155 | Q16: 141 | R16: 153 | S16: 166 | T16: 157 | U16: 146 | V16: 148 | W16: 270 | X16: 331 | Y16: 376 | Z16: 394 | AA16: 353
A17: Chihuahua | B17: 38 | C17: 43 | D17: 40 | E17: 55 | F17: 69 | G17: 70 | H17: 66 | I17: 67 | J17: 81 | K17: 112 | L17: 165 | M17: 210 | N17: 186 | O17: 224 | P17: 210 | Q17: 210 | R17: 201 | S17: 228 | T17: 249 | U17: 306 | V17: 399 | W17: 584 | X17: 778 | Y17: 890 | Z17: 915 | AA17: 884
A18: CDMX Norte | B18: 1158 | C18: 1097 | D18: 1015 | E18: 957 | F18: 969 | G18: 1016 | H18: 949 | I18: 966 | J18: 1143 | K18: 1235 | L18: 1264 | M18: 1238 | N18: 1248 | O18: 1297 | P18: 1365 | Q18: 1401 | R18: 1354 | S18: 1446 | T18: 1626 | U18: 1689 | V18: 1897 | W18: 1945 | X18: 2226 | Y18: 2423 | Z18: 2472 | AA18: 2460
A19: CDMX Sur (1) | B19: 1184 | C19: 1130 | D19: 1063 | E19: 1047 | F19: 1105 | G19: 1058 | H19: 1014 | I19: 1036 | J19: 1236 | K19: 1374 | L19: 1427 | M19: 1457 | N19: 1535 | O19: 1562 | P19: 1617 | Q19: 1636 | R19: 1625 | S19: 1807 | T19: 1923 | U19: 2037 | V19: 2210 | W19: 2249 | X19: 2505 | Y19: 2642 | Z19: 2688 | AA19: 2555
A20: Durango | B20: 48 | C20: 52 | D20: 38 | E20: 46 | F20: 51 | G20: 56 | H20: 49 | I20: 84 | J20: 125 | K20: 161 | L20: 148 | M20: 154 | N20: 155 | O20: 157 | P20: 150 | Q20: 154 | R20: 148 | S20: 156 | T20: 171 | U20: 194 | V20: 237 | W20: 333 | X20: 337 | Y20: 337 | Z20: 342 | AA20: 308
A21: Guanajuato | B21: 262 | C21: 239 | D21: 244 | E21: 228 | F21: 256 | G21: 268 | H21: 283 | I21: 288 | J21: 375 | K21: 409 | L21: 463 | M21: 509 | N21: 546 | O21: 584 | P21: 581 | Q21: 564 | R21: 549 | S21: 615 | T21: 672 | U21: 753 | V21: 873 | W21: 974 | X21: 1071 | Y21: 1127 | Z21: 1147 | AA21: 1141
A22: Guerrero | B22: 7 | C22: 20 | D22: 31 | E22: 52 | F22: 59 | G22: 63 | H22: 57 | I22: 58 | J22: 85 | K22: 102 | L22: 99 | M22: 110 | N22: 91 | O22: 114 | P22: 125 | Q22: 120 | R22: 100 | S22: 121 | T22: 138 | U22: 140 | V22: 152 | W22: 194 | X22: 239 | Y22: 278 | Z22: 281 | AA22: 253
A23: Hidalgo | B23: 9 | C23: 24 | D23: 20 | E23: 11 | F23: 0 | G23: 9 | H23: 23 | I23: 43 | J23: 56 | K23: 60 | L23: 63 | M23: 73 | N23: 57 | O23: 57 | P23: 56 | Q23: 52 | R23: 70 | S23: 86 | T23: 91 | U23: 95 | V23: 108 | W23: 198 | X23: 202 | Y23: 215 | Z23: 219 | AA23: 191
A24: Jalisco | B24: 681 | C24: 681 | D24: 633 | E24: 648 | F24: 671 | G24: 681 | H24: 671 | I24: 690 | J24: 814 | K24: 910 | L24: 999 | M24: 1131 | N24: 1245 | O24: 1332 | P24: 1399 | Q24: 1417 | R24: 1489 | S24: 1669 | T24: 1793 | U24: 1761 | V24: 1938 | W24: 2192 | X24: 2565 | Y24: 2789 | Z24: 2816 | AA24: 2714
... A39: Tamaulipas | B39: 10 | C39: 22 | D39: 28 | E39: 39 | F39: 44 | G39: 60 | H39: 60 | I39: 77 | J39: 150 | K39: 191 | L39: 261 | M39: 321 | N39: 299 | O39: 315 | P39: 294 | Q39: 297 | R39: 277 | S39: 311 | T39: 315 | U39: 324 | V39: 350 | W39: 416 | X39: 482 | Y39: 409 | Z39: 420 | AA39: 345
A40: Tlaxcala | D40: 8 | E40: 25 | F40: 39 | G40: 38 | H40: 18 | I40: 0 | J40: 7 | K40: 14 | L40: 22 | M40: 20 | N40: 17 | O40: 19 | P40: 21 | Q40: 25 | R40: 25 | S40: 39 | T40: 42 | U40: 46 | V40: 52 | W40: 101 | X40: 136 | Y40: 154 | Z40: 159 | AA40: 145
A41: Veracruz Norte | B41: 259 | C41: 270 | D41: 254 | E41: 265 | F41: 286 | G41: 303 | H41: 271 | I41: 288 | J41: 385 | K41: 460 | L41: 481 | M41: 498 | N41: 455 | O41: 456 | P41: 449 | Q41: 468 | R41: 476 | S41: 509 | T41: 556 | U41: 608 | V41: 702 | W41: 841 | X41: 873 | Y41: 778 | Z41: 795 | AA41: 711
A42: Veracruz Sur | B42: 68 | C42: 73 | D42: 67 | E42: 71 | F42: 67 | G42: 70 | H42: 65 | I42: 69 | J42: 98 | K42: 110 | L42: 127 | M42: 167 | N42: 154 | O42: 218 | P42: 218 | Q42: 220 | R42: 217 | S42: 249 | T42: 252 | U42: 227 | V42: 244 | W42: 377 | X42: 454 | Y42: 475 | Z42: 488 | AA42: 422
A43: Yucatán | B43: 212 | C43: 214 | D43: 207 | E43: 200 | F43: 201 | G43: 208 | H43: 223 | I43: 240 | J43: 321 | K43: 360 | L43: 395 | M43: 472 | N43: 442 | O43: 454 | P43: 442 | Q43: 450 | R43: 394 | S43: 456 | T43: 535 | U43: 588 | V43: 691 | W43: 734 | X43: 824 | Y43: 833 | Z43: 862 | AA43: 791
A44: Zacatecas | B44: 37 | C44: 49 | D44: 52 | E44: 39 | F44: 25 | G44: 20 | H44: 32 | I44: 42 | J44: 70 | K44: 81 | L44: 90 | M44: 92 | N44: 77 | O44: 91 | P44: 88 | Q44: 91 | R44: 96 | S44: 108 | T44: 122 | U44: 127 | V44: 164 | W44: 236 | X44: 280 | Y44: 196 | Z44: 197 | AA44: 153
A46: Jefaturas Normativas | B46: 29 | C46: 23 | D46: 21 | E46: 22 | F46: 23 | G46: 22 | H46: 22 | I46: 22 | J46: 29 | K46: 33 | L46: 39 | M46: 41 | O46: 43 | P46: 37 | Q46: 33 | R46: 37 | S46: 29 | T46: 29 | U46: 31 | V46: 27 | W46: 16 | X46: 6 | Z46: 0 | AA46: 0
A48: OOAD.- Órgano de Operación Administrativa Desconcentrada. Los referidos en el artículo 251 A, del Acdo.SA2.HCT.250718/195 publicado en el D.O.F. 28/08/2018. Antes se denominaban Delegaciones.
A49: (1) Para el año 2012 Incluye 43 alumnos de la especialidad de Epidemiología adscritos a la Coordinación de Vigilancia Epidemiológica y Apoyo a Contingencias pero que desde hace 2 años están incluídos en la nómina de la D.F. Sur.
A50: Fuente: Coordinación de Educación en Salud

Sheet VIII.3
A2: Cuadro No. VIII.3
A3: Internado de medicina de 2000 - 2025.
A4: OOAD | B4: 2000 | C4: 2001 | D4: 2002 | E4: 2003 | F4: 2004 | G4: 2005 | H4: 2006 | I4: 2007 | J4: 2008 | K4: 2009 | L4: 2010 | M4: 2011 | N4: 2012 | O4: 2013 | P4: 2014 | Q4: 2015 | R4: 2016 | S4: 2017 | T4: 2018 | U4: 2019 | V4: 2020 | W4: 2021 | X4: 2022 | Y4: 2023 | Z4: 2024 | AA4: 2025
A7: Total
B8: 3823 | C8: 3982 | D8: 4123 | E8: 3957 | F8: 4689 | G8: 4515 | H8: 5067 | I8: 5287 | J8: 5349 | K8: 5438 | L8: 5227 | M8: 4795 | N8: 5335 | O8: 5641 | P8: 5810 | Q8: 6386 | R8: 7024 | S8: 7241 | T8: 6860 | U8: 6977 | V8: 6892 | W8: 6936 | X8: 6723 | Y8: 7183 | Z8: 7437 | AA8: 7737
A10: Aguascalientes | B10: 60 | C10: 61 | D10: 58 | E10: 50 | F10: 66 | G10: 67 | H10: 64 | I10: 71 | J10: 66 | K10: 79 | L10: 78 | M10: 88 | N10: 72 | O10: 65 | P10: 72 | Q10: 103 | R10: 116 | S10: 139 | T10: 131 | U10: 132 | V10: 126 | W10: 128 | X10: 145 | Y10: 148 | Z10: 146 | AA10: 148
A11: Baja California | B11: 152 | C11: 161 | D11: 160 | E11: 189 | F11: 207 | G11: 184 | H11: 204 | I11: 193 | J11: 195 | K11: 200 | L11: 197 | M11: 204 | N11: 202 | O11: 241 | P11: 289 | Q11: 294 | R11: 324 | S11: 392 | T11: 388 | U11: 397 | V11: 392 | W11: 387 | X11: 380 | Y11: 406 | Z11: 402 | AA11: 408
A12: Baja California Sur | B12: 17 | C12: 14 | D12: 12 | E12: 10 | F12: 12 | G12: 18 | H12: 18 | I12: 26 | J12: 26 | K12: 30 | L12: 37 | M12: 25 | N12: 23 | O12: 25 | P12: 26 | Q12: 34 | R12: 60 | S12: 63 | T12: 65 | U12: 75 | V12: 72 | W12: 52 | X12: 55 | Y12: 57 | Z12: 56 | AA12: 61
A13: Campeche | B13: 38 | C13: 32 | D13: 32 | E13: 24 | F13: 42 | G13: 65 | H13: 51 | I13: 52 | J13: 53 | K13: 55 | L13: 51 | M13: 62 | N13: 38 | O13: 36 | P13: 43 | Q13: 40 | R13: 43 | S13: 64 | T13: 44 | U13: 59 | V13: 53 | W13: 51 | X13: 52 | Y13: 54 | Z13: 58 | AA13: 55
A14: Coahuila | B14: 149 | C14: 165 | D14: 151 | E14: 140 | F14: 164 | G14: 166 | H14: 168 | I14: 179 | J14: 165 | K14: 145 | L14: 155 | M14: 74 | N14: 93 | O14: 163 | P14: 141 | Q14: 93 | R14: 175 | S14: 126 | T14: 218 | U14: 240 | V14: 224 | W14: 228 | X14: 211 | Y14: 196 | Z14: 291 | AA14: 315
A15: Colima | B15: 36 | C15: 32 | D15: 40 | E15: 30 | F15: 45 | G15: 37 | H15: 40 | I15: 45 | J15: 48 | K15: 52 | L15: 53 | M15: 40 | N15: 47 | O15: 51 | P15: 60 | Q15: 225 | R15: 70 | S15: 79 | T15: 68 | U15: 72 | V15: 72 | W15: 72 | X15: 79 | Y15: 84 | Z15: 84 | AA15: 84
A16: Chiapas | B16: 70 | C16: 66 | D16: 63 | E16: 68 | F16: 98 | G16: 103 | H16: 102 | I16: 100 | J16: 105 | K16: 110 | L16: 106 | M16: 86 | N16: 87 | O16: 93 | P16: 101 | Q16: 179 | R16: 76 | S16: 111 | T16: 99 | U16: 87 | V16: 82 | W16: 80 | X16: 87 | Y16: 91 | Z16: 89 | AA16: 92
A17: Chihuahua | B17: 177 | C17: 193 | D17: 145 | E17: 156 | F17: 163 | G17: 155 | H17: 188 | I17: 186 | J17: 195 | K17: 199 | L17: 241 | M17: 145 | N17: 142 | O17: 122 | P17: 95 | Q17: 56 | R17: 304 | S17: 304 | T17: 295 | U17: 268 | V17: 345 | W17: 353 | X17: 347 | Y17: 376 | Z17: 409 | AA17: 374
A18: CDMX Norte | B18: 107 | C18: 151 | D18: 153 | E18: 158 | F18: 175 | G18: 173 | H18: 191 | I18: 192 | J18: 195 | K18: 197 | L18: 192 | M18: 196 | N18: 254 | O18: 306 | P18: 342 | Q18: 431 | R18: 464 | S18: 460 | T18: 507 | U18: 425 | V18: 420 | W18: 325 | X18: 236 | Y18: 207 | Z18: 221 | AA18: 228
A19: CDMX Sur | B19: 329 | C19: 313 | D19: 323 | E19: 364 | F19: 341 | G19: 368 | H19: 417 | I19: 410 | J19: 410 | K19: 404 | L19: 387 | M19: 305 | N19: 385 | O19: 370 | P19: 479 | Q19: 474 | R19: 483 | S19: 544 | T19: 462 | U19: 515 | V19: 455 | W19: 416 | X19: 485 | Y19: 498 | Z19: 456 | AA19: 489
A20: Durango | B20: 87 | C20: 86 | D20: 87 | E20: 76 | F20: 104 | G20: 105 | H20: 106 | I20: 104 | J20: 104 | K20: 104 | L20: 102 | M20: 103 | N20: 110 | O20: 105 | P20: 101 | Q20: 102 | R20: 105 | S20: 130 | T20: 127 | U20: 128 | V20: 134 | W20: 131 | X20: 127 | Y20: 132 | Z20: 148 | AA20: 159
A21: Guanajuato | B21: 156 | C21: 163 | D21: 183 | E21: 158 | F21: 181 | G21: 177 | H21: 182 | I21: 178 | J21: 182 | K21: 185 | L21: 203 | M21: 209 | N21: 183 | O21: 398 | P21: 176 | Q21: 424 | R21: 161 | S21: 172 | T21: 190 | U21: 265 | V21: 230 | W21: 232 | X21: 224 | Y21: 238 | Z21: 234 | AA21: 244
... A44: Zacatecas | B44: 56 | C44: 36 | D44: 40 | E44: 45 | F44: 61 | G44: 62 | H44: 72 | I44: 114 | J44: 100 | K44: 80 | L44: 91 | M44: 116 | N44: 101 | O44: 76 | P44: 86 | Q44: 104 | R44: 103 | S44: 87 | T44: 67 | U44: 74 | V44: 68 | W44: 66 | X44: 64 | Y44: 81 | Z44: 81 | AA44: 83
A46: OOAD.- Órgano de Operación Administrativa Desconcentrada. Los referidos en el artículo 251 A, del Acdo.SA2.HCT.250718/195 publicado en el D.O.F. 28/08/2018. Antes se denominaban Delegaciones.
A47: Fuente: Coordinación de Educación en Salud

Sheet VIII.4
A2: Cuadro No. VIII.4
A3: Pasantes en servicio social. 2000 - 2025.
A4: OOAD | B4: 2000 | C4: 2001 | D4: 2002 | E4: 2003 | F4: 2004 | G4: 2005 | H4: 2006 | I4: 2007 | J4: 2008 | K4: 2009 | L4: 2010 | M4: 2011 | N4: 2012 | O4: 2013 | P4: 2014 | Q4: 2015 | R4: 2016 | S4: 2017 | T4: 2018 | U4: 2019 | V4: 2020 | W4: 2021 | X4: 2022 | Y4: 2023 | Z4: 2024 | AA4: 2025
A7: Total
B8: 4710 | C8: 5692 | D8: 5169 | E8: 4654 | F8: 4373 | G8: 4562 | H8: 3720 | I8: 5928 | J8: 7277 | K8: 8395 | L8: 8010 | M8: 8306 | N8: 8223 | O8: 8750 | P8: 9817 | Q8: 10553 | R8: 10783 | S8: 11682 | T8: 12699 | U8: 12237 | V8: 11607 | W8: 11810 | X8: 11179 | Y8: 11227 | Z8: 11241 | AA8: 11556
A10: Aguascalientes | B10: 45 | C10: 51 | D10: 50 | E10: 32 | F10: 37 | G10: 83 | H10: 43 | I10: 63 | J10: 81 | K10: 158 | L10: 153 | M10: 222 | N10: 194 | O10: 194 | P10: 195 | Q10: 211 | R10: 235 | S10: 239 | T10: 259 | U10: 259 | V10: 201 | W10: 192 | X10: 184 | Y10: 220 | Z10: 222 | AA10: 210
A11: Baja California | B11: 81 | C11: 72 | D11: 65 | E11: 86 | F11: 70 | G11: 84 | H11: 51 | I11: 100 | J11: 126 | K11: 143 | L11: 132 | M11: 115 | N11: 153 | O11: 182 | P11: 175 | Q11: 205 | R11: 259 | S11: 266 | T11: 327 | U11: 350 | V11: 320 | W11: 323 | X11: 346 | Y11: 395 | Z11: 362 | AA11: 367
A12: Baja California Sur | B12: 10 | C12: 10 | D12: 10 | E12: 3 | F12: 0 | G12: 4 | H12: 10 | I12: 1 | J12: 14 | K12: 27 | L12: 46 | M12: 26 | N12: 32 | O12: 27 | P12: 42 | Q12: 31 | R12: 48 | S12: 51 | T12: 60 | U12: 50 | V12: 56 | W12: 69 | X12: 66 | Y12: 61 | Z12: 59 | AA12: 60
A13: Campeche | B13: 44 | C13: 47 | D13: 46 | E13: 54 | F13: 59 | G13: 79 | H13: 51 | I13: 13 | J13: 91 | K13: 135 | L13: 76 | M13: 99 | N13: 92 | O13: 69 | P13: 83 | Q13: 90 | R13: 93 | S13: 106 | T13: 374 | U13: 370 | V13: 96 | W13: 118 | X13: 103 | Y13: 105 | Z13: 125 | AA13: 101
A14: Coahuila | B14: 140 | C14: 186 | D14: 177 | E14: 184 | F14: 239 | G14: 196 | H14: 96 | I14: 297 | J14: 317 | K14: 321 | L14: 321 | M14: 313 | N14: 350 | O14: 312 | P14: 365 | Q14: 638 | R14: 394 | S14: 429 | T14: 783 | U14: 780 | V14: 416 | W14: 397 | X14: 360 | Y14: 339 | Z14: 365 | AA14: 296
A15: Colima | B15: 44 | C15: 61 | D15: 55 | E15: 89 | F15: 45 | G15: 40 | H15: 28 | I15: 0 | J15: 23 | K15: 79 | L15: 117 | M15: 93 | N15: 55 | O15: 97 | P15: 123 | Q15: 185 | R15: 143 | S15: 163 | T15: 367 | U15: 360 | V15: 144 | W15: 210 | X15: 217 | Y15: 227 | Z15: 225 | AA15: 201
A16: Chiapas | B16: 314 | C16: 460 | D16: 297 | E16: 288 | F16: 122 | G16: 479 | H16: 185 | I16: 329 | J16: 314 | K16: 494 | L16: 460 | M16: 690 | N16: 449 | O16: 491 | P16: 520 | Q16: 401 | R16: 627 | S16: 718 | T16: 783 | U16: 780 | V16: 778 | W16: 751 | X16: 723 | Y16: 636 | Z16: 399 | AA16: 284
A17: Chihuahua | B17: 156 | C17: 152 | D17: 169 | E17: 197 | F17: 170 | G17: 173 | H17: 121 | I17: 262 | J17: 238 | K17: 210 | L17: 252 | M17: 223 | N17: 290 | O17: 319 | P17: 323 | Q17: 133 | R17: 334 | S17: 326 | T17: 367 | U17: 213 | V17: 355 | W17: 254 | X17: 334 | Y17: 365 | Z17: 345 | AA17: 391
A18: CDMX Norte | B18: 83 | C18: 241 | D18: 98 | E18: 54 | F18: 61 | G18: 27 | H18: 30 | I18: 142 | J18: 158 | K18: 133 | L18: 155 | M18: 219 | N18: 211 | O18: 110 | P18: 173 | Q18: 209 | R18: 236 | S18: 229 | T18: 224 | U18: 238 | V18: 221 | W18: 207 | X18: 193 | Y18: 186 | Z18: 205 | AA18: 240
A19: CDMX Sur | B19: 149 | C19: 166 | D19: 156 | E19: 148 | F19: 127 | G19: 47 | H19: 30 | I19: 109 | J19: 207 | K19: 145 | L19: 127 | M19: 84 | N19: 163 | O19: 68 | P19: 182 | Q19: 216 | R19: 221 | S19: 255 | T19: 257 | U19: 257 | V19: 291 | W19: 320 | X19: 318 | Y19: 372 | Z19: 386 | AA19: 451
A20: Durango | B20: 128 | C20: 174 | D20: 153 | E20: 134 | F20: 210 | G20: 190 | H20: 146 | I20: 188 | J20: 160 | K20: 263 | L20: 306 | M20: 46 | N20: 212 | O20: 267 | P20: 259 | Q20: 276 | R20: 299 | S20: 319 | T20: 311 | U20: 311 | V20: 298 | W20: 298 | X20: 250 | Y20: 244 | Z20: 333 | AA20: 286
A21: Guanajuato | B21: 51 | C21: 151 | D21: 121 | E21: 108 | F21: 83 | G21: 66 | H21: 84 | I21: 210 | J21: 402 | K21: 320 | L21: 351 | M21: 168 | N21: 482 | O21: 310 | P21: 463 | Q21: 329 | R21: 482 | S21: 585 | T21: 293 | U21: 290 | V21: 450 | W21: 424 | X21: 405 | Y21: 376 | Z21: 427 | AA21: 435
... A44: Zacatecas | B44: 181 | C44: 193 | D44: 259 | E44: 191 | F44: 255 | G44: 159 | H44: 202 | I44: 268 | J44: 337 | K44: 342 | L44: 308 | M44: 310 | N44: 298 | O44: 316 | P44: 296 | Q44: 326 | R44: 358 | S44: 355 | T44: 410 | U44: 410 | V44: 376 | W44: 401 | X44: 337 | Y44: 315 | Z44: 274 | AA44: 287
A46: OOAD.- Órgano de Operación Administrativa Desconcentrada. Los referidos en el artículo 251 A, del Acdo.SA2.HCT.250718/195 publicado en el D.O.F. 28/08/2018. Antes se denominaban Delegaciones.
A47: Fuente: Coordinación de Educación en Salud

Sheet VIII.5
A2: Cuadro No. VIII.5
A3: Enfermeras en cursos de especialización de 2000 - 2025.
A4: OOAD | B4: 2000 | C4: 2001 | D4: 2002 | E4: 2003 | F4: 2004 | G4: 2005 | H4: 2006 | I4: 2007 | J4: 2008 | K4: 2009 | L4: 2010 | M4: 2011 | N4: 2012 | O4: 2013 | P4: 2014 | Q4: 2015 | R4: 2016 | S4: 2017 | T4: 2018 | U4: 2019 | V4: 2020 | W4: 2021 | X4: 2022 | Y4: 2023 | Z4: 2024 | AA4: 2025
A7: Total
B8: 612 | C8: 535 | D8: 568 | E8: 412 | F8: 485 | G8: 485 | H8: 495 | I8: 478 | J8: 609 | K8: 708 | L8: 813 | M8: 842 | N8: 788 | O8: 726 | P8: 706 | Q8: 736 | R8: 822 | S8: 774 | T8: 774 | U8: 843 | V8: 906 | W8: 964 | X8: 1018 | Y8: 854 | Z8: 957 | AA8: 1555
A10: Aguascalientes | D10: 18 | L10: 9 | M10: 1 | O10: 27 | P10: 14 | Q10: 28 | R10: 36 | T10: 36 | U10: 17 | V10: 37 | W10: 34 | X10: 30 | Y10: 16 | Z10: 7 | AA10: 30
A11: Baja California | C11: 87 | D11: 58 | J11: 19 | K11: 30 | L11: 27 | M11: 15 | N11: 40 | O11: 41 | P11: 25 | Q11: 64 | S11: 22 | T11: 61 | U11: 36 | V11: 39 | W11: 65 | X11: 54 | Y11: 68 | Z11: 7 | AA11: 49
A12: Baja California Sur | L12: 16 | M12: 14 | N12: 12 | O12: 24 | T12: 14 | V12: 12 | W12: 13 | X12: 10 | Y12: 4 | Z12: 42
A13: Campeche | K13: 35 | L13: 16 | M13: 2 | N13: 10 | O13: 8 | T13: 4 | W13: 22 | X13: 9 | Y13: 17 | Z13: 8
A14: Coahuila | I14: 42 | J14: 21 | K14: 43 | L14: 17 | M14: 10 | N14: 26 | O14: 2 | P14: 13 | Q14: 17 | R14: 7 | S14: 10 | T14: 39 | U14: 36 | V14: 17 | W14: 28 | X14: 15 | Y14: 49 | Z14: 14 | AA14: 31
A15: Colima | J15: 20 | K15: 20 | L15: 9 | M15: 4 | N15: 10 | O15: 33 | T15: 14 | V15: 26 | W15: 12 | X15: 15 | Y15: 4
A16: Chiapas | L16: 13 | M16: 4 | N16: 3 | O16: 8 | Q16: 27 | R16: 17 | T16: 8 | V16: 20 | W16: 56 | X16: 50 | Y16: 33 | AA16: 86
A17: Chihuahua | B17: 16 | C17: 76 | D17: 27 | E17: 18 | F17: 57 | G17: 17 | I17: 13 | J17: 50 | K17: 44 | L17: 20 | M17: 41 | N17: 24 | O17: 16 | P17: 30 | Q17: 44 | R17: 33 | S17: 44 | T17: 25 | U17: 20 | V17: 1 | W17: 16 | X17: 1 | Y17: 25 | AA17: 14
A18: CDMX Norte | B18: 64 | C18: 76 | D18: 94 | E18: 59 | F18: 91 | G18: 73 | H18: 75 | I18: 55 | J18: 64 | K18: 40 | L18: 43 | M18: 120 | N18: 59 | O18: 38 | P18: 103 | Q18: 72 | R18: 93 | S18: 96 | T18: 51 | U18: 136 | V18: 60 | W18: 61 | X18: 128 | Y18: 78 | Z18: 176 | AA18: 237
A19: CDMX Sur | B19: 91 | C19: 18 | D19: 45 | E19: 36 | F19: 90 | G19: 82 | H19: 81 | I19: 57 | J19: 52 | K19: 84 | L19: 46 | M19: 91 | N19: 93 | O19: 39 | P19: 101 | Q19: 99 | R19: 117 | S19: 126 | T19: 110 | U19: 144 | V19: 85 | W19: 65 | X19: 84 | Y19: 79 | Z19: 148 | AA19: 280
A20: Durango | L20: 21 | M20: 1 | N20: 3 | O20: 17 | T20: 12 | W20: 14 | X20: 25 | Y20: 29 | AA20: 16
A21: Guanajuato | B21: 45 | C21: 19 | D21: 24 | G21: 13 | H21: 41 | I21: 12 | J21: 23 | K21: 39 | L21: 37 | M21: 35 | N21: 26 | O21: 28 | P21: 37 | Q21: 19 | R21: 70 | S21: 36 | T21: 39 | U21: 58 | V21: 15 | W21: 47 | X21: 56 | Y21: 23 | Z21: 24 | AA21: 43
A22: Guerrero | J22: 21 | K22: 10 | L22: 14 | M22: 4 | N22: 13 | O22: 9 | P22: 16 | T22: 13 | V22: 13 | W22: 19 | X22: 10 | Y22: 4 | AA22: 22
A23: Hidalgo | L23: 9 | M23: 0 | N23: 8 | O23: 14 | T23: 4 | U23: 49 | V23: 37 | W23: 29 | X23: 5 | Y23: 46 | Z23: 57 | AA23: 38
A24: Jalisco | B24: 82 | C24: 27 | D24: 67 | E24: 43 | F24: 42 | G24: 38 | H24: 39 | I24: 33 | J24: 49 | K24: 44 | L24: 57 | M24: 79 | N24: 71 | O24: 47 | P24: 98 | Q24: 58 | R24: 77 | S24: 80 | T24: 26 | U24: 34 | V24: 97 | W24: 6 | X24: 46 | Y24: 44 | Z24: 12 | AA24: 72
A25: México Oriente | G25: 16 | L25: 32 | M25: 44 | N25: 26 | O25: 8 | P25: 64 | Q25: 32 | R25: 54 | S25: 28 | T25: 27 | U25: 32 | V25: 47 | W25: 53 | X25: 42 | Y25: 46 | Z25: 72 | AA25: 69
A26: México Poniente | J26: 15 | K26: 17 | L26: 29 | M26: 36 | N26: 16 | O26: 67 | P26: 33 | Q26: 20 | S26: 37 | T26: 25 | U26: 42 | V26: 35 | W26: 44 | X26: 30 | Y26: 21 | Z26: 37 | AA26: 48
A27: Michoacán | E27: 21 | F27: 23 | H27: 19 | I27: 19 | K27: 16 | L27: 37 | M27: 4 | N27: 16 | O27: 6 | R27: 43 | S27: 21 | T27: 11 | V27: 3 | W27: 24 | X27: 13 | Y27: 22 | Z27: 9 | AA27: 49
A28: Morelos | L28: 8 | M28: 11 | N28: 5 | O28: 4 | T28: 24 | V28: 16 | W28: 26 | X28: 5 | Y28: 4
A29: Nayarit | K29: 13 | L29: 12 | M29: 7 | O29: 11 | T29: 3 | V29: 10 | W29: 19 | X29: 11 | Y29: 21
A30: Nuevo León | B30: 59 | C30: 72 | D30: 43 | E30: 21 | F30: 30 | G30: 41 | H30: 58 | I30: 59 | J30: 35 | K30: 40 | L30: 56 | M30: 57 | N30: 51 | O30: 14 | S30: 37 | T30: 19 | U30: 43 | V30: 31 | W30: 27 | X30: 66 | Y30: 36 | Z30: 76 | AA30: 91
A31: Oaxaca | L31: 8 | M31: 4 | N31: 11 | O31: 30 | T31: 16 | V31: 10 | W31: 23 | X31: 23 | Y31: 8
A32: Puebla | B32: 31 | G32: 20 | H32: 19 | I32: 42 | J32: 18 | K32: 15 | L32: 19 | M32: 23 | N32: 12 | O32: 12 | P32: 15 | Q32: 9 | R32: 17 | S32: 40 | T32: 7 | W32: 8 | X32: 13 | Y32: 5 | Z32: 19
A33: Querétaro | L33: 19 | M33: 4 | N33: 9 | O33: 5 | T33: 10 | U33: 9 | V33: 74 | W33: 33 | X33: 56 | Y33: 24 | Z33: 59 | AA33: 48
A34: Quintana Roo | J34: 18 | L34: 20 | M34: 31 | N34: 16 | O34: 10 | Q34: 33 | R34: 15 | T34: 6 | V34: 8 | W34: 29 | X34: 8 | Y34: 17 | AA34: 13
A35: San Luis Potosí | F35: 23 | G35: 22 | H35: 17 | I35: 20 | J35: 20 | K35: 15 | L35: 14 | M35: 33 | N35: 46 | O35: 23 | P35: 17 | Q35: 13 | R35: 42 | S35: 36 | T35: 36 | U35: 18 | V35: 49 | W35: 20 | X35: 41 | Y35: 8 | Z35: 17 | AA35: 13
A36: Sinaloa | B36: 25 | D36: 25 | E36: 60 | F36: 47 | G36: 38 | H36: 21 | I36: 20 | J36: 43 | K36: 37 | L36: 29 | M36: 28 | N36: 46 | O36: 25 | P36: 25 | Q36: 62 | R36: 57 | S36: 42 | T36: 12 | U36: 23 | V36: 36 | W36: 17 | Y36: 1 | Z36: 11 | AA36: 32
A37: Sonora | B37: 43 | C37: 63 | D37: 67 | E37: 74 | F37: 19 | G37: 17 | H37: 23 | I37: 34 | J37: 48 | K37: 58 | L37: 65 | M37: 45 | N37: 46 | O37: 50 | P37: 36 | Q37: 61 | R37: 62 | S37: 19 | T37: 16 | U37: 50 | V37: 46 | W37: 27 | X37: 35 | Y37: 14 | AA37: 29
A38: Tabasco | K38: 11 | L38: 19 | M38: 4 | N38: 8 | O38: 8 | R38: 19 | T38: 6 | V38: 8 | W38: 12 | X38: 10 | Y38: 26 | Z38: 24 | AA38: 58
A39: Tamaulipas | G39: 11 | K39: 15 | L39: 10 | M39: 9 | N39: 4 | O39: 18 | P39: 23 | Q39: 27 | S39: 12 | T39: 13 | U39: 5 | W39: 9 | X39: 1 | Y39: 0 | AA39: 8
A40: Tlaxcala | L40: 8 | N40: 2 | O40: 2 | T40: 1 | X40: 3 | Y40: 0 | Z40: 20
A41: Veracruz Norte | B41: 104 | C41: 78 | D41: 74 | E41: 66 | F41: 63 | G41: 84 | H41: 81 | I41: 72 | J41: 75 | K41: 54 | L41: 30 | M41: 30 | N41: 27 | O41: 22 | P41: 39 | Q41: 51 | R41: 63 | S41: 66 | T41: 29 | U41: 75 | V41: 35 | W41: 38 | X41: 48 | Y41: 35 | Z41: 64 | AA41: 57
A42: Veracruz Sur | B42: 52 | L42: 21 | M42: 7 | N42: 14 | O42: 22 | P42: 17 | T42: 25 | V42: 4 | W42: 45 | X42: 31 | Y42: 29 | Z42: 28 | AA42: 57
A43: Yucatán | C43: 19 | D43: 26 | E43: 14 | G43: 13 | H43: 21 | J43: 18 | K43: 28 | L43: 14 | M43: 44 | N43: 14 | O43: 17 | S43: 22 | T43: 14 | W43: 6 | X43: 12 | Y43: 13 | Z43: 14 | AA43: 44
A44: Zacatecas | L44: 9 | N44: 21 | O44: 21 | T44: 18 | U44: 16 | V44: 35 | W44: 17 | X44: 32 | Y44: 5 | Z44: 12 | AA44: 21
...

Sheet VIII.6
A2: Cuadro No. VIII.6
A3: Enfermería básica de 2000 - 2025.
A4: OOAD | B4: 2000 | C4: 2001 | D4: 2002 | E4: 2003 | F4: 2004 | G4: 2005 | H4: 2006 | I4: 2007 | J4: 2008 | K4: 2009 | L4: 2010 | M4: 2011 | N4: 2012 | O4: 2013 | P4: 2014 | Q4: 2015 | R4: 2016 | S4: 2017 | T4: 2018 | U4: 2019 | V4: 2020 | W4: 2021 | X4: 2022 | Y4: 2023 | Z4: 2024 | AA4: 2025
A7: Total
B8: 869 | C8: 1344 | D8: 1327 | E8: 998 | F8: 1155 | G8: 1390 | H8: 1493 | I8: 1457 | J8: 1698 | K8: 1551 | L8: 1710 | M8: 1918 | N8: 1969 | O8: 1911 | P8: 1854 | Q8: 1733 | R8: 1796 | S8: 2207 | T8: 2168 | U8: 2468 | V8: 4783 | W8: 2176 | X8: 2479 | Y8: 1954 | Z8: 1441 | AA8: 2260
A10: Aguascalientes | U10: 12 | V10: 24 | W10: 17 | X10: 17 | AA10: 21
A11: Baja California | B11: 77 | C11: 173 | D11: 152 | E11: 133 | F11: 169 | G11: 172 | H11: 164 | I11: 145 | J11: 334 | K11: 161 | L11: 214 | M11: 270 | N11: 265 | O11: 239 | P11: 267 | Q11: 229 | R11: 269 | S11: 304 | T11: 311 | U11: 303 | V11: 642 | W11: 249 | X11: 300 | Y11: 293 | Z11: 295 | AA11: 299
A12: Baja California Sur | U12: 12 | V12: 21 | W12: 12 | X12: 15 | Y12: 9
A13: Campeche | U13: 2 | V13: 0 | W13: 3 | X13: 10
A14: Coahuila | U14: 40 | V14: 69 | W14: 33 | X14: 50 | Y14: 17 | Z14: 2 | AA14: 26
A15: Colima | V15: 0 | X15: 13 | Z15: 4
A16: Chiapas | U16: 12 | V16: 21 | W16: 17 | X16: 28 | Y16: 2 | Z16: 8 | AA16: 7
A17: Chihuahua | U17: 24 | V17: 43 | W17: 16 | X17: 37 | Y17: 8 | Z17: 7 | AA17: 45
A18: CDMX Norte | U18: 84 | V18: 137 | W18: 44 | X18: 112 | Y18: 34 | AA18: 182
A19: CDMX Sur | B19: 256 | C19: 345 | D19: 209 | E19: 168 | F19: 193 | G19: 250 | H19: 338 | I19: 312 | J19: 344 | K19: 311 | L19: 330 | M19: 348 | N19: 339 | O19: 306 | P19: 318 | Q19: 288 | R19: 325 | S19: 398 | T19: 368 | U19: 404 | V19: 598 | W19: 379 | X19: 314 | Y19: 324 | Z19: 314 | AA19: 314
A20: Durango | V20: 0 | W20: 1 | X20: 13 | Y20: 4 | Z20: 2 | AA20: 30
A21: Guanajuato | U21: 49 | V21: 42 | W21: 27 | X21: 58 | Y21: 11 | AA21: 59
A22: Guerrero | V22: 44 | W22: 7 | X22: 17
A23: Hidalgo | U23: 8 | V23: 25 | W23: 20 | X23: 24 | Y23: 7 | Z23: 6 | AA23: 17
A24: Jalisco | B24: 175 | C24: 243 | D24: 183 | E24: 171 | F24: 168 | G24: 273 | H24: 295 | I24: 212 | J24: 198 | K24: 151 | L24: 166 | M24: 145 | N24: 163 | O24: 180 | P24: 141 | Q24: 145 | R24: 144 | S24: 162 | T24: 169 | U24: 128 | V24: 354 | W24: 107 | X24: 122 | Y24: 107 | Z24: 92 | AA24: 91
A25: México Oriente | U25: 70 | V25: 141 | W25: 92 | X25: 105 | AA25: 24
A26: México Poniente | U26: 32 | V26: 60 | W26: 25 | X26: 64 | Y26: 49 | AA26: 113
A27: Michoacán | U27: 8 | V27: 18 | W27: 7 | X27: 12 | Y27: 7 | Z27: 1 | AA27: 23
A28: Morelos | U28: 20 | V28: 35 | W28: 12 | X28: 14 | Y28: 16 | AA28: 29
A29: Nayarit | V29: 0 | W29: 1 | X29: 4
A30: Nuevo León | B30: 146 | C30: 176 | D30: 175 | E30: 137 | F30: 147 | G30: 230 | H30: 260 | I30: 216 | J30: 288 | K30: 358 | L30: 371 | M30: 367 | N30: 398 | O30: 353 | P30: 298 | Q30: 305 | R30: 311 | S30: 359 | T30: 384 | U30: 334 | V30: 715 | W30: 365 | X30: 316 | Y30: 324 | Z30: 203 | AA30: 286
A31: Oaxaca | U31: 9 | V31: 11 | W31: 6 | X31: 30 | Y31: 5 | Z31: 2
A32: Puebla | U32: 34 | V32: 59 | W32: 23 | X32: 22 | Y32: 11 | AA32: 51
A33: Querétaro | U33: 8 | V33: 17 | W33: 8 | X33: 26 | Y33: 5 | AA33: 19
A34: Quintana Roo | U34: 29 | V34: 45 | W34: 18 | X34: 29 | Y34: 5 | AA34: 24
A35: San Luis Potosí | U35: 1 | V35: 3 | W35: 0 | X35: 3
A36: Sinaloa | U36: 5 | V36: 14 | W36: 3 | X36: 12
A37: Sonora | B37: 107 | C37: 211 | D37: 386 | E37: 244 | F37: 306 | G37: 319 | H37: 320 | I37: 390 | J37: 398 | K37: 401 | L37: 468 | M37: 577 | N37: 591 | O37: 620 | P37: 611 | Q37: 558 | R37: 540 | S37: 729 | T37: 693 | U37: 593 | V37: 1157 | W37: 440 | X37: 429 | Y37: 481 | Z37: 349 | AA37: 383
A38: Tabasco | V38: 0 | X38: 9 | Z38: 4
A39: Tamaulipas | V39: 0 | X39: 2 | Z39: 4
A40: Tlaxcala | V40: 4 | W40: 1 | X40: 18 | Y40: 1 | Z40: 2
A41: Veracruz Norte | D41: 37 | U41: 20 | V41: 44 | W41: 18 | X41: 29 | Y41: 7 | AA41: 36
A42: Veracruz Sur | U42: 17 | V42: 10 | W42: 2 | X42: 24 | Y42: 2
A43: Yucatán | B43: 108 | C43: 196 | D43: 185 | E43: 145 | F43: 172 | G43: 146 | H43: 116 | I43: 182 | J43: 136 | K43: 169 | L43: 161 | M43: 211 | N43: 213 | O43: 213 | P43: 219 | Q43: 208 | R43: 207 | S43: 255 | T43: 243 | U43: 210 | V43: 430 | W43: 223 | X43: 201 | Y43: 225 | Z43: 146 | AA43: 181
A44: Zacatecas | V44: 0 | X44: 0 | Y44: 0
...

Sheet VIII.7
A2: Cuadro No. VIII.7
A3: Personal auxiliar de 2000 - 2025.
A4: OOAD | B4: 2000 | C4: 2001 | D4: 2002 | E4: 2003 | F4: 2004 | G4: 2005 | H4: 2006 | I4: 2007 | J4: 2008 | K4: 2009 | L4: 2010 | M4: 2011 | N4: 2012 | O4: 2013 | P4: 2014 | Q4: 2015 | R4: 2016 | S4: 2017 | T4: 2018 | U4: 2019 | V4: 2020 | W4: 2021 | X4: 2022 | Y4: 2023 | Z4: 2024 | AA4: 2025
V5: 2019 | W5: 2019 | X5: 2019 | Y5: 2019 | Z5: 2019 | AA5: 2019
A7: Total
B8: 264 | C8: 243 | D8: 90 | E8: 94 | F8: 26 | G8: 56 | H8: 19 | I8: 32 | J8: 46 | K8: 39 | L8: 39 | M8: 37 | N8: 54 | O8: 70 | P8: 44 | Q8: 33 | R8: 26 | S8: 45 | T8: 59 | U8: 233 | V8: 93 | W8: 57 | X8: 53 | Y8: 58 | Z8: 268 | AA8: 105
A10: Aguascalientes | G10: 1 | M10: 0 | O10: 1 | P10: 1 | T10: 1 | U10: 5 | V10: 2 | X10: 1 | Z10: 6 | AA10: 1
A11: Baja California | G11: 1 | K11: 2 | L11: 2 | M11: 1 | P11: 1 | Q11: 2 | R11: 1 | S11: 2 | T11: 1 | U11: 5 | V11: 3 | X11: 2 | Z11: 10 | AA11: 2
A12: Baja California Sur | J12: 3 | L12: 1 | M12: 2 | N12: 1 | O12: 1 | Q12: 2 | T12: 2 | U12: 8 | V12: 0 | X12: 3 | AA12: 0
A13: Campeche | I13: 1 | R13: 1 | S13: 1 | U13: 2 | V13: 0
A14: Coahuila | B14: 19 | C14: 6 | F14: 1 | I14: 1 | L14: 1 | M14: 1 | N14: 2 | O14: 2 | Q14: 1 | U14: 9 | V14: 1 | Y14: 2 | Z14: 13 | AA14: 3
A15: Colima | J15: 4 | T15: 1 | U15: 1 | V15: 2
A16: Chiapas | F16: 1 | G16: 2 | H16: 2 | N16: 1 | O16: 2 | R16: 2 | S16: 4 | U16: 5 | V16: 0 | X16: 3 | Z16: 3 | AA16: 1
A17: Chihuahua | G17: 1 | K17: 3 | L17: 2 | M17: 2 | N17: 2 | O17: 4 | P17: 12 | Q17: 1 | T17: 3 | U17: 7 | V17: 0 | Z17: 8 | AA17: 4
A18: CDMX Norte | B18: 27 | C18: 49 | D18: 17 | E18: 30 | F18: 3 | G18: 7 | H18: 5 | J18: 2 | K18: 2 | L18: 7 | M18: 7 | N18: 10 | O18: 7 | P18: 7 | Q18: 7 | S18: 3 | T18: 5 | U18: 23 | V18: 17 | W18: 13 | X18: 7 | Y18: 10 | Z18: 20 | AA18: 11
A19: CDMX Sur | B19: 53 | C19: 92 | D19: 23 | E19: 28 | F19: 4 | G19: 10 | H19: 8 | I19: 7 | J19: 5 | K19: 11 | L19: 2 | M19: 2 | N19: 4 | O19: 9 | Q19: 11 | S19: 2 | T19: 5 | U19: 17 | V19: 19 | W19: 16 | X19: 8 | Y19: 10 | Z19: 36 | AA19: 23
A20: Durango | J20: 8 | N20: 1 | P20: 1 | T20: 2 | U20: 8 | V20: 0 | X20: 4 | Z20: 6
A21: Guanajuato | B21: 12 | C21: 13 | D21: 11 | E21: 12 | G21: 4 | L21: 4 | M21: 3 | O21: 2 | Q21: 2 | R21: 3 | S21: 3 | T21: 5 | U21: 10 | V21: 0 | Z21: 9
A22: Guerrero | G22: 1 | H22: 2 | I22: 1 | J22: 2 | K22: 1 | O22: 1 | U22: 1 | V22: 1 | X22: 2 | Y22: 2 | Z22: 6 | AA22: 5
A23: Hidalgo | G23: 2 | K23: 1 | N23: 1 | U23: 2 | V23: 1 | X23: 1 | Z23: 6 | AA23: 4
A24: Jalisco | B24: 10 | G24: 2 | I24: 7 | J24: 2 | K24: 2 | N24: 3 | O24: 2 | P24: 5 | R24: 1 | S24: 2 | T24: 2 | U24: 14 | V24: 3 | W24: 1 | X24: 3 | Y24: 4 | Z24: 15 | AA24: 1
A25: México Oriente | B25: 14 | C25: 11 | D25: 18 | F25: 7 | G25: 3 | I25: 3 | J25: 1 | L25: 1 | M25: 1 | N25: 4 | O25: 4 | Q25: 1 | R25: 4 | S25: 5 | U25: 0 | X25: 4 | Y25: 3 | Z25: 17 | AA25: 3
A26: México Poniente | G26: 6 | J26: 7 | K26: 1 | N26: 5 | O26: 4 | R26: 3 | S26: 3 | T26: 4 | U26: 6 | V26: 2 | X26: 1 | Y26: 4 | Z26: 13 | AA26: 5
A27: Michoacán | B27: 28 | N27: 1 | O27: 3 | T27: 2 | U27: 4
A28: Morelos | F28: 1 | L28: 1 | M28: 1 | O28: 1 | T28: 1 | U28: 7 | Y28: 1 | Z28: 1
A29: Nayarit | G29: 3 | J29: 1 | L29: 1 | P29: 9 | R29: 1 | S29: 2 | T29: 1 | U29: 1 | X29: 2 | Y29: 3 | Z29: 6 | AA29: 2
A30: Nuevo León | B30: 42 | C30: 24 | D30: 16 | E30: 24 | J30: 1 | K30: 4 | L30: 7 | M30: 7 | N30: 6 | O30: 4 | Q30: 1 | R30: 6 | S30: 9 | T30: 8 | U30: 13 | V30: 9 | W30: 8 | Y30: 4 | Z30: 11 | AA30: 5
A31: Oaxaca | J31: 2 | K31: 1 | N31: 1 | O31: 1 | P31: 2 | T31: 1 | U31: 1 | X31: 2 | Z31: 5 | AA31: 1
A32: Puebla | B32: 10 | G32: 2 | K32: 1 | L32: 1 | M32: 1 | N32: 1 | O32: 3 | U32: 7 | V32: 4 | W32: 2 | Y32: 2 | Z32: 20 | AA32: 13
A33: Querétaro | G33: 2 | I33: 1 | J33: 1 | N33: 3 | O33: 1 | U33: 5 | Y33: 2 | Z33: 8 | AA33: 3
A34: Quintana Roo | B34: 25 | C34: 23 | I34: 6 | J34: 2 | N34: 1 | O34: 2 | U34: 0 | Z34: 5 | AA34: 1
A35: San Luis Potosí | F35: 1 | I35: 3 | J35: 1 | K35: 1 | O35: 1 | R35: 1 | S35: 2 | U35: 8 | X35: 1 | Y35: 1
A36: Sinaloa | F36: 1 | G36: 2 | K36: 1 | N36: 1 | O36: 1 | U36: 7 | V36: 3 | W36: 1 | X36: 3 | Y36: 2 | Z36: 2 | AA36: 2
A37: Sonora | D37: 5 | G37: 2 | I37: 2 | K37: 1 | N37: 2 | O37: 2 | Q37: 2 | T37: 1 | U37: 8 | V37: 5 | Y37: 2 | Z37: 8 | AA37: 2
A38: Tabasco | F38: 3 | L38: 1 | M38: 1 | O38: 2 | P38: 1 | R38: 1 | S38: 1 | T38: 1 | U38: 6 | X38: 2 | Y38: 2 | Z38: 4 | AA38: 3
A39: Tamaulipas | O39: 1 | T39: 2 | U39: 4 | V39: 4 | W39: 2 | X39: 1 | Z39: 2 | AA39: 2
A40: Tlaxcala | G40: 1 | K40: 1 | O40: 2 | P40: 1 | R40: 1 | S40: 1 | T40: 1 | U40: 4 | Y40: 2 | Z40: 4
A41: Veracruz Norte | B41: 24 | G41: 1 | K41: 1 | N41: 2 | O41: 6 | P41: 1 | Q41: 2 | S41: 2 | T41: 4 | U41: 11 | V41: 11 | W41: 9 | Y41: 2 | Z41: 7 | AA41: 1
A42: Veracruz Sur | G42: 1 | J42: 1 | L42: 1 | O42: 1 | P42: 2 | S42: 1 | T42: 3 | U42: 6 | V42: 6 | W42: 5 | Z42: 2 | AA42: 2
A43: Yucatán | C43: 25 | G43: 2 | H43: 2 | J43: 2 | K43: 1 | N43: 1 | U43: 13 | Z43: 7 | AA43: 2
...

Sheet VIII.8
A2: Cuadro No. VIII.8
A3: Formación de personal técnico en salud de 2000 - 2025.
A4: OOAD | B4: 2000 | C4: 2001 | D4: 2002 | E4: 2003 | F4: 2004 | G4: 2005 | H4: 2006 | I4: 2007 | J4: 2008 | K4: 2009 | L4: 2010 | M4: 2011 | N4: 2012 | O4: 2013 | P4: 2014 | Q4: 2015 | R4: 2016 | S4: 2017 | T4: 2018 | U4: 2019 | V4: 2020 | W4: 2021 | X4: 2022 | Y4: 2023 | Z4: 2024 | AA4: 2025
A7: Total
B8: 244 | C8: 254 | D8: 309 | E8: 553 | F8: 294 | G8: 346 | H8: 387 | I8: 438 | J8: 457 | K8: 451 | L8: 423 | M8: 585 | N8: 533 | O8: 749 | P8: 631 | Q8: 766 | R8: 704 | S8: 631 | T8: 634 | U8: 494 | V8: 838 | W8: 222 | X8: 835 | Y8: 364 | Z8: 625 | AA8: 1115
A10: Aguascalientes | F10: 4 | G10: 2 | H10: 1 | I10: 4 | J10: 3 | K10: 4 | L10: 4 | M10: 8 | N10: 6 | O10: 9 | P10: 15 | Q10: 8 | R10: 9 | S10: 4 | T10: 13 | U10: 14 | V10: 17 | W10: 12 | X10: 15 | Y10: 4 | Z10: 11 | AA10: 53
A11: Baja California | D11: 9 | E11: 9 | F11: 1 | G11: 2 | H11: 7 | I11: 5 | J11: 7 | K11: 9 | L11: 13 | M11: 12 | N11: 10 | O11: 15 | P11: 14 | Q11: 17 | R11: 13 | S11: 11 | T11: 10 | U11: 6 | V11: 17 | W11: 2 | X11: 22 | Y11: 9 | Z11: 12 | AA11: 1
A12: Baja California Sur | F12: 6 | G12: 1 | I12: 5 | J12: 4 | K12: 5 | L12: 10 | M12: 12 | N12: 9 | O12: 10 | P12: 3 | Q12: 5 | R12: 11 | S12: 12 | T12: 13 | U12: 8 | V12: 6 | W12: 4 | X12: 4 | Y12: 1 | Z12: 4 | AA12: 4
A13: Campeche | F13: 1 | G13: 1 | H13: 1 | I13: 8 | J13: 6 | K13: 7 | L13: 5 | M13: 2 | N13: 3 | O13: 6 | P13: 5 | Q13: 7 | R13: 5 | S13: 5 | T13: 4 | U13: 2 | V13: 3 | W13: 1 | X13: 2 | Y13: 1 | Z13: 2 | AA13: 28
A14: Coahuila | F14: 14 | G14: 12 | H14: 15 | I14: 9 | J14: 22 | K14: 17 | L14: 16 | M14: 18 | N14: 17 | O14: 28 | P14: 28 | Q14: 26 | R14: 23 | S14: 14 | T14: 13 | U14: 9 | V14: 15 | W14: 4 | X14: 25 | Y14: 18 | Z14: 20 | AA14: 20
A15: Colima | F15: 1 | G15: 2 | H15: 3 | I15: 5 | J15: 6 | K15: 6 | L15: 6 | M15: 4 | N15: 2 | O15: 2 | P15: 4 | Q15: 9 | R15: 8 | S15: 9 | T15: 9 | U15: 6 | V15: 7 | W15: 4 | X15: 8 | Y15: 3 | Z15: 5 | AA15: 19
A16: Chiapas | F16: 7 | G16: 11 | H16: 8 | I16: 13 | J16: 4 | K16: 5 | L16: 1 | M16: 7 | N16: 4 | O16: 3 | P16: 5 | Q16: 6 | R16: 7 | S16: 6 | T16: 3 | U16: 4 | V16: 11 | W16: 10 | X16: 8 | Y16: 3 | Z16: 9 | AA16: 39
A17: Chihuahua | F17: 5 | G17: 3 | H17: 13 | I17: 11 | J17: 17 | K17: 19 | L17: 29 | M17: 24 | N17: 26 | O17: 39 | P17: 36 | Q17: 36 | R17: 20 | S17: 13 | T17: 16 | U17: 3 | V17: 6 | W17: 1 | X17: 10 | Y17: 7 | Z17: 10 | AA17: 62
A18: CDMX Norte | B18: 60 | C18: 92 | D18: 85 | E18: 171 | F18: 39 | G18: 39 | H18: 25 | I18: 16 | J18: 29 | K18: 44 | L18: 47 | M18: 90 | N18: 74 | O18: 97 | P18: 67 | Q18: 74 | R18: 71 | S18: 61 | T18: 59 | U18: 48 | V18: 75 | W18: 16 | X18: 112 | Y18: 54 | Z18: 70 | AA18: 137
A19: CDMX Sur | B19: 68 | C19: 55 | D19: 98 | E19: 151 | F19: 46 | G19: 59 | H19: 48 | I19: 66 | J19: 55 | K19: 51 | L19: 62 | M19: 81 | N19: 65 | O19: 96 | P19: 51 | Q19: 94 | R19: 91 | S19: 114 | T19: 127 | U19: 89 | V19: 189 | W19: 20 | X19: 131 | Y19: 66 | Z19: 89 | AA19: 236
A20: Durango | F20: 13 | G20: 12 | H20: 13 | I20: 12 | J20: 4 | K20: 4 | L20: 6 | M20: 4 | N20: 2 | O20: 5 | P20: 1 | Q20: 5 | R20: 6 | S20: 5 | T20: 6 | U20: 9 | V20: 9 | W20: 5 | X20: 21 | Y20: 7 | Z20: 15 | AA20: 13
A21: Guanajuato | F21: 18 | G21: 26 | H21: 29 | I21: 34 | J21: 14 | K21: 16 | L21: 10 | M21: 17 | N21: 8 | O21: 17 | P21: 17 | Q21: 37 | R21: 29 | S21: 22 | T21: 17 | U21: 18 | V21: 41 | W21: 11 | X21: 39 | Y21: 22 | Z21: 18 | AA21: 7
A22: Guerrero | F22: 3 | G22: 8 | H22: 12 | I22: 22 | J22: 25 | K22: 15 | L22: 5 | M22: 11 | N22: 14 | O22: 11 | P22: 13 | Q22: 17 | R22: 18 | S22: 21 | T22: 14 | U22: 16 | V22: 16 | W22: 6 | X22: 17 | Y22: 3 | Z22: 16 | AA22: 3
A23: Hidalgo | F23: 1 | G23: 4 | H23: 1 | I23: 3 | J23: 2 | K23: 9 | L23: 9 | M23: 8 | N23: 7 | O23: 12 | P23: 1 | Q23: 8 | R23: 10 | S23: 7 | T23: 8 | U23: 7 | V23: 12 | W23: 6 | X23: 7 | Y23: 4 | Z23: 10 | AA23: 19
A24: Jalisco | B24: 15 | C24: 18 | D24: 34 | E24: 64 | F24: 29 | G24: 30 | H24: 45 | I24: 47 | J24: 41 | K24: 23 | L24: 22 | M24: 22 | N24: 16 | O24: 33 | P24: 28 | Q24: 30 | R24: 32 | S24: 18 | T24: 15 | U24: 15 | V24: 26 | W24: 2 | X24: 42 | Y24: 19 | Z24: 32 | AA24: 42
A25: México Oriente | E25: 33 | F25: 9 | G25: 9 | H25: 7 | I25: 30 | J25: 28 | K25: 20 | L25: 10 | M25: 22 | N25: 27 | O25: 48 | P25: 46 | Q25: 50 | R25: 43 | S25: 38 | T25: 46 | U25: 39 | V25: 49 | W25: 17 | X25: 52 | Y25: 10 | Z25: 66 | AA25: 26
A26: México Poniente | F26: 7 | G26: 13 | H26: 11 | J26: 12 | K26: 17 | L26: 21 | M26: 31 | N26: 37 | O26: 47 | P26: 32 | Q26: 25 | R26: 10 | S26: 8 | T26: 2 | U26: 11 | V26: 30 | W26: 2 | X26: 34 | Y26: 8 | Z26: 21 | AA26: 47
A27: Michoacán | F27: 10 | G27: 2 | H27: 2 | I27: 4 | J27: 2 | K27: 3 | L27: 6 | M27: 9 | N27: 8 | O27: 10 | P27: 3 | Q27: 18 | R27: 15 | S27: 14 | T27: 6 | U27: 5 | V27: 23 | W27: 12 | X27: 10 | Y27: 5 | Z27: 12 | AA27: 31
A28: Morelos | F28: 1 | H28: 1 | I28: 12 | J28: 4 | K28: 5 | L28: 2 | M28: 10 | N28: 8 | O28: 9 | P28: 9 | Q28: 11 | R28: 11 | S28: 11 | T28: 5 | U28: 9 | V28: 9 | W28: 1 | X28: 3 | Y28: 2 | Z28: 2 | AA28: 17
A29: Nayarit | F29: 1 | G29: 6 | H29: 1 | J29: 9 | K29: 8 | L29: 8 | M29: 9 | N29: 11 | O29: 9 | P29: 10 | Q29: 9 | R29: 10 | S29: 7 | T29: 8 | U29: 4 | V29: 5 | W29: 2 | X29: 17 | Y29: 7 | Z29: 11 | AA29: 17
A30: Nuevo León | B30: 38 | C30: 49 | D30: 55 | E30: 81 | F30: 9 | G30: 10 | H30: 29 | I30: 20 | J30: 35 | K30: 22 | L30: 30 | M30: 26 | N30: 41 | O30: 45 | P30: 58 | Q30: 40 | R30: 27 | S30: 31 | T30: 34 | U30: 26 | V30: 25 | W30: 4 | X30: 15 | Y30: 7 | Z30: 16 | AA30: 40
A31: Oaxaca | F31: 3 | G31: 3 | H31: 4 | I31: 2 | J31: 4 | K31: 7 | L31: 4 | M31: 19 | N31: 5 | O31: 6 | P31: 8 | Q31: 10 | R31: 11 | S31: 13 | T31: 11 | U31: 5 | V31: 8 | W31: 4 | X31: 18 | Y31: 5 | Z31: 18 | AA31: 3
A32: Puebla | E32: 7 | F32: 6 | G32: 11 | H32: 9 | I32: 5 | J32: 7 | K32: 17 | L32: 16 | M32: 23 | N32: 25 | O32: 27 | P32: 28 | Q32: 26 | R32: 18 | S32: 10 | T32: 11 | U32: 14 | V32: 20 | W32: 11 | X32: 37 | Z32: 42 | AA32: 77
A33: Querétaro | F33: 5 | G33: 6 | H33: 5 | I33: 7 | J33: 7 | K33: 2 | L33: 1 | M33: 0 | N33: 2 | O33: 2 | P33: 5 | Q33: 10 | R33: 14 | S33: 12 | T33: 17 | U33: 13 | V33: 19 | W33: 6 | X33: 11 | Y33: 10 | Z33: 2 | AA33: 27
A34: Quintana Roo | B34: 12 | C34: 11 | D34: 12 | E34: 11 | F34: 2 | G34: 5 | H34: 8 | I34: 22 | J34: 24 | K34: 18 | L34: 11 | M34: 8 | N34: 6 | O34: 15 | P34: 8 | Q34: 17 | R34: 19 | S34: 15 | T34: 14 | U34: 13 | V34: 10 | W34: 3 | X34: 19 | Y34: 1 | Z34: 19 | AA34: 1
A35: San Luis Potosí | F35: 2 | G35: 3 | H35: 8 | I35: 10 | J35: 13 | K35: 9 | L35: 4 | M35: 4 | N35: 9 | O35: 12 | P35: 12 | Q35: 17 | R35: 10 | S35: 4 | T35: 3 | U35: 4 | V35: 16 | W35: 3 | X35: 10 | Y35: 11 | Z35: 1 | AA35: 21
A36: Sinaloa | F36: 9 | G36: 15 | H36: 17 | I36: 22 | J36: 26 | K36: 18 | L36: 9 | M36: 3 | N36: 5 | O36: 5 | P36: 1 | Q36: 8 | R36: 9 | S36: 10 | T36: 4 | U36: 1 | V36: 2 | W36: 0 | X36: 4 | Y36: 1 | Z36: 3 | AA36: 7
A37: Sonora | B37: 10 | E37: 10 | F37: 8 | G37: 10 | H37: 10 | I37: 4 | J37: 7 | K37: 6 | L37: 7 | M37: 22 | N37: 24 | O37: 32 | P37: 42 | Q37: 39 | R37: 44 | S37: 43 | T37: 42 | U37: 13 | V37: 35 | W37: 5 | X37: 23 | Y37: 13 | Z37: 16 | AA37: 50
A38: Tabasco | B38: 10 | C38: 7 | D38: 7 | E38: 7 | F38: 5 | G38: 5 | H38: 7 | I38: 10 | J38: 8 | K38: 8 | L38: 5 | M38: 4 | N38: 2 | O38: 4 | P38: 2 | Q38: 5 | R38: 3 | S38: 0 | T38: 5 | U38: 4 | V38: 12 | W38: 4 | X38: 11 | Y38: 5 | Z38: 5 | AA38: 0
A39: Tamaulipas | I39: 4 | K39: 5 | L39: 1 | M39: 2 | P39: 2 | Q39: 10 | R39: 14 | S39: 15 | T39: 10 | U39: 4 | V39: 15 | W39: 3 | X39: 19 | Y39: 15 | Z39: 4 | AA39: 1
A40: Tlaxcala | F40: 2 | G40: 2 | H40: 5 | I40: 4 | J40: 3 | K40: 5 | L40: 2 | M40: 3 | N40: 3 | O40: 5 | P40: 2 | Q40: 5 | R40: 7 | S40: 6 | T40: 9 | U40: 4 | V40: 7 | W40: 2 | X40: 2 | Y40: 1 | Z40: 3 | AA40: 0
A41: Veracruz Norte | B41: 5 | F41: 2 | G41: 6 | H41: 11 | I41: 7 | J41: 3 | K41: 2 | L41: 3 | M41: 12 | N41: 12 | O41: 19 | P41: 20 | Q41: 26 | R41: 24 | S41: 31 | T41: 29 | U41: 22 | V41: 43 | W41: 10 | X41: 37 | Y41: 18 | Z41: 25 | AA41: 31
A42: Veracruz Sur | B42: 26 | G42: 1 | I42: 3 | J42: 5 | K42: 16 | L42: 18 | M42: 20 | N42: 18 | O42: 22 | P42: 16 | Q42: 24 | R42: 25 | S42: 20 | T42: 21 | U42: 21 | V42: 23 | W42: 12 | X42: 27 | Y42: 8 | Z42: 20 | AA42: 5
A43: Yucatán | C43: 22 | D43: 9 | E43: 9 | F43: 11 | G43: 17 | H43: 17 | I43: 9 | J43: 9 | K43: 13 | L43: 8 | M43: 17 | N43: 18 | O43: 37 | P43: 34 | Q43: 28 | R43: 26 | S43: 13 | T43: 20 | U43: 17 | V43: 22 | W43: 13 | X43: 11 | Y43: 5 | Z43: 11 | AA43: 26
A44: Zacatecas | F44: 1 | G44: 1 | H44: 3 | I44: 3 | J44: 1 | K44: 2 | L44: 3 | M44: 7 | N44: 2 | O44: 1 | P44: 1 | Q44: 2 | R44: 4 | S44: 3 | T44: 5 | U44: 6 | V44: 8 | W44: 1 | X44: 12 | Y44: 9 | Z44: 5 | AA44: 4
...

Sheet VIII.9
A2: Cuadro No. VIII.9
A3: Formación de profesores en el área de la salud de 2000 - 2025.
A4: OOAD | B4: 2000 | C4: 2001 | D4: 2002 | E4: 2003 | F4: 2004 | G4: 2005 | H4: 2006 | I4: 2007 | J4: 2008 | K4: 2009 | L4: 2010 | M4: 2011 | N4: 2012 | O4: 2013 | P4: 2014 | Q4: 2015 | R4: 2016 | S4: 2017 | T4: 2018 | U4: 2019 | V4: 2020 | W4: 2021 | X4: 2022 | Y4: 2023 | Z4: 2024 | AA4: 2025
A7: Total
B8: 577 | C8: 570 | D8: 156 | E8: 279 | F8: 122 | G8: 259 | H8: 495 | I8: 657 | J8: 360 | K8: 356 | L8: 996 | M8: 850 | N8: 833 | O8: 611 | P8: 457 | Q8: 775 | R8: 944 | S8: 531 | T8: 530 | U8: 466 | V8: 508 | W8: 664 | X8: 93 | Y8: 5692 | Z8: 4145 | AA8: 6542
A10: Aguascalientes | G10: 8 | H10: 11 | J10: 2 | K10: 4 | L10: 7 | M10: 4 | N10: 4 | O10: 1 | P10: 3 | Q10: 5 | R10: 11 | S10: 11 | T10: 7 | U10: 7 | V10: 10 | W10: 31 | X10: 1 | Y10: 75 | Z10: 53 | AA10: 64
A11: Baja California | I11: 7 | J11: 4 | K11: 6 | L11: 12 | M11: 27 | N11: 3 | O11: 2 | P11: 0 | Q11: 6 | R11: 7 | S11: 9 | T11: 7 | U11: 7 | V11: 12 | W11: 32 | X11: 5 | Y11: 109 | Z11: 161 | AA11: 196
A12: Baja California Sur | I12: 6 | J12: 5 | K12: 4 | L12: 10 | M12: 9 | N12: 12 | O12: 1 | P12: 7 | Q12: 13 | R12: 10 | S12: 1 | T12: 8 | U12: 14 | V12: 7 | W12: 1 | X12: 0 | Y12: 50 | Z12: 66 | AA12: 138
A13: Campeche | H13: 7 | I13: 6 | J13: 3 | L13: 12 | M13: 2 | N13: 6 | O13: 12 | P13: 0 | Q13: 6 | R13: 10 | S13: 4 | T13: 7 | U13: 7 | V13: 3 | W13: 7 | X13: 3 | Y13: 40 | Z13: 61 | AA13: 83
A14: Coahuila | G14: 22 | I14: 30 | J14: 9 | K14: 50 | L14: 49 | M14: 60 | N14: 39 | O14: 19 | P14: 30 | Q14: 35 | R14: 31 | S14: 17 | T14: 19 | U14: 24 | V14: 13 | W14: 30 | X14: 2 | Y14: 171 | Z14: 123 | AA14: 145
A15: Colima | G15: 12 | J15: 5 | K15: 4 | L15: 9 | M15: 11 | O15: 3 | P15: 2 | Q15: 5 | R15: 9 | S15: 11 | T15: 10 | U15: 21 | V15: 10 | W15: 6 | X15: 5 | Y15: 24 | Z15: 46 | AA15: 63
A16: Chiapas | I16: 22 | J16: 8 | K16: 2 | L16: 22 | M16: 12 | N16: 1 | O16: 9 | P16: 7 | Q16: 13 | R16: 7 | S16: 6 | T16: 4 | U16: 1 | V16: 6 | W16: 11 | X16: 3 | Y16: 146 | Z16: 100 | AA16: 122
A17: Chihuahua | J17: 3 | L17: 6 | M17: 11 | N17: 14 | O17: 1 | P17: 0 | Q17: 10 | R17: 23 | S17: 14 | T17: 17 | U17: 8 | V17: 6 | W17: 12 | X17: 2 | Y17: 93 | Z17: 104 | AA17: 142
A18: CDMX Norte | B18: 80 | C18: 124 | D18: 44 | E18: 85 | F18: 14 | G18: 60 | H18: 62 | I18: 38 | J18: 19 | K18: 10 | L18: 65 | M18: 66 | N18: 77 | O18: 41 | P18: 41 | Q18: 54 | R18: 80 | S18: 32 | T18: 42 | U18: 40 | V18: 34 | W18: 42 | X18: 9 | Y18: 486 | Z18: 146 | AA18: 482
A19: CDMX Sur | B19: 69 | C19: 89 | D19: 16 | E19: 19 | F19: 15 | H19: 59 | I19: 35 | J19: 16 | K19: 46 | L19: 69 | M19: 70 | N19: 106 | O19: 78 | P19: 37 | Q19: 58 | R19: 117 | S19: 97 | T19: 48 | U19: 44 | V19: 64 | W19: 67 | X19: 8 | Y19: 647 | Z19: 282 | AA19: 621
A20: Durango | H20: 12 | I20: 19 | J20: 5 | K20: 2 | L20: 23 | M20: 8 | N20: 22 | O20: 12 | P20: 9 | Q20: 11 | R20: 19 | S20: 3 | T20: 7 | U20: 5 | V20: 21 | W20: 13 | X20: 1 | Y20: 45 | Z20: 55 | AA20: 65
A21: Guanajuato | F21: 10 | G21: 18 | H21: 6 | I21: 34 | J21: 7 | K21: 5 | L21: 19 | M21: 21 | N21: 20 | O21: 23 | P21: 16 | Q21: 32 | R21: 41 | S21: 29 | T21: 22 | U21: 23 | V21: 25 | W21: 31 | X21: 6 | Y21: 216 | Z21: 182 | AA21: 474
A22: Guerrero | I22: 6 | J22: 2 | K22: 6 | L22: 9 | M22: 7 | O22: 11 | P22: 9 | Q22: 16 | R22: 9 | S22: 9 | T22: 9 | U22: 11 | V22: 8 | W22: 4 | X22: 1 | Y22: 64 | Z22: 55 | AA22: 99
A23: Hidalgo | J23: 1 | K23: 1 | L23: 4 | M23: 2 | N23: 15 | O23: 6 | P23: 0 | Q23: 8 | R23: 18 | S23: 6 | T23: 7 | U23: 8 | V23: 8 | W23: 6 | X23: 2 | Y23: 113 | Z23: 81 | AA23: 151
A24: Jalisco | B24: 60 | C24: 75 | D24: 9 | E24: 25 | F24: 6 | G24: 12 | H24: 37 | I24: 16 | J24: 5 | K24: 66 | L24: 91 | M24: 50 | N24: 42 | O24: 31 | P24: 21 | Q24: 47 | R24: 89 | S24: 29 | T24: 49 | U24: 30 | V24: 49 | W24: 29 | X24: 5 | Y24: 454 | Z24: 271 | AA24: 297
A25: México Oriente | J25: 4 | K25: 8 | L25: 18 | M25: 29 | N25: 62 | O25: 35 | P25: 23 | Q25: 27 | R25: 31 | S25: 31 | T25: 16 | U25: 8 | V25: 10 | W25: 29 | X25: 3 | Y25: 170 | Z25: 151 | AA25: 187
A26: México Poniente | J26: 4 | L26: 20 | M26: 34 | N26: 51 | O26: 49 | P26: 29 | Q26: 31 | R26: 41 | S26: 15 | T26: 18 | U26: 24 | V26: 18 | W26: 21 | X26: 6 | Y26: 209 | Z26: 89 | AA26: 139
A27: Michoacán | E27: 7 | F27: 2 | I27: 18 | J27: 16 | K27: 4 | L27: 6 | M27: 8 | N27: 6 | O27: 2 | P27: 3 | Q27: 8 | R27: 14 | S27: 5 | T27: 10 | U27: 6 | V27: 4 | W27: 9 | X27: 2 | Y27: 34 | Z27: 96 | AA27: 117
A28: Morelos | I28: 10 | J28: 1 | K28: 21 | L28: 12 | M28: 7 | N28: 7 | O28: 5 | P28: 7 | Q28: 20 | R28: 10 | S28: 13 | T28: 8 | U28: 6 | V28: 3 | W28: 8 | X28: 2 | Y28: 72 | Z28: 54 | AA28: 81
A29: Nayarit | F29: 7 | I29: 8 | J29: 9 | K29: 5 | L29: 22 | M29: 11 | N29: 11 | O29: 12 | P29: 6 | Q29: 12 | R29: 7 | S29: 2 | T29: 6 | U29: 0 | V29: 9 | W29: 13 | X29: 2 | Y29: 32 | Z29: 80 | AA29: 160
A30: Nuevo León | B30: 103 | C30: 41 | D30: 24 | E30: 38 | F30: 12 | G30: 24 | H30: 23 | I30: 61 | J30: 45 | K30: 5 | L30: 113 | M30: 88 | N30: 88 | O30: 67 | P30: 60 | Q30: 52 | R30: 96 | S30: 33 | T30: 53 | U30: 46 | V30: 49 | W30: 61 | X30: 9 | Y30: 324 | Z30: 196 | AA30: 362
A31: Oaxaca | H31: 7 | I31: 8 | J31: 0 | L31: 9 | M31: 1 | N31: 4 | P31: 0 | Q31: 10 | R31: 11 | S31: 1 | T31: 7 | U31: 2 | V31: 3 | W31: 12 | X31: 1 | Y31: 109 | Z31: 51 | AA31: 84
A32: Puebla | B32: 94 | C32: 135 | D32: 32 | E32: 22 | F32: 14 | G32: 27 | H32: 24 | I32: 23 | J32: 24 | K32: 27 | L32: 79 | M32: 45 | N32: 46 | O32: 23 | P32: 22 | Q32: 22 | R32: 37 | S32: 22 | T32: 22 | U32: 14 | V32: 9 | W32: 13 | X32: 1 | Y32: 796 | Z32: 272 | AA32: 361
A33: Querétaro | G33: 9 | H33: 38 | J33: 12 | K33: 5 | L33: 20 | M33: 32 | N33: 20 | O33: 12 | P33: 5 | Q33: 15 | R33: 10 | S33: 12 | T33: 11 | U33: 8 | V33: 27 | W33: 8 | X33: 1 | Y33: 210 | Z33: 298 | AA33: 346
A34: Quintana Roo | E34: 8 | F34: 8 | J34: 4 | K34: 4 | L34: 11 | M34: 7 | N34: 1 | O34: 3 | P34: 12 | Q34: 10 | R34: 10 | S34: 9 | T34: 6 | U34: 13 | V34: 3 | W34: 3 | X34: 1 | Y34: 12 | Z34: 132 | AA34: 149
A35: San Luis Potosí | H35: 46 | I35: 58 | J35: 15 | K35: 1 | L35: 12 | M35: 25 | N35: 37 | O35: 27 | P35: 8 | Q35: 20 | R35: 21 | S35: 19 | T35: 9 | U35: 1 | V35: 8 | W35: 8 | X35: 1 | Y35: 110 | Z35: 217 | AA35: 342
A36: Sinaloa | I36: 11 | J36: 6 | K36: 1 | L36: 2 | M36: 10 | N36: 10 | O36: 3 | P36: 3 | Q36: 10 | R36: 21 | S36: 7 | T36: 8 | U36: 9 | V36: 5 | W36: 23 | X36: 1 | Y36: 80 | Z36: 131 | AA36: 182
A37: Sonora | B37: 107 | C37: 39 | D37: 13 | E37: 25 | F37: 8 | G37: 11 | H37: 23 | I37: 19 | J37: 10 | K37: 24 | L37: 68 | M37: 49 | N37: 30 | O37: 29 | P37: 19 | Q37: 42 | R37: 35 | S37: 14 | T37: 20 | U37: 19 | V37: 18 | W37: 36 | X37: 1 | Y37: 141 | Z37: 183 | AA37: 308
A38: Tabasco | J38: 3 | K38: 2 | L38: 13 | M38: 9 | O38: 5 | P38: 2 | Q38: 12 | R38: 3 | S38: 5 | T38: 4 | U38: 6 | V38: 3 | W38: 3 | X38: 1 | Y38: 54 | Z38: 45 | AA38: 54
A39: Tamaulipas | H39: 26 | I39: 35 | J39: 12 | K39: 2 | L39: 26 | M39: 12 | N39: 1 | O39: 8 | P39: 3 | Q39: 19 | R39: 26 | S39: 18 | T39: 12 | U39: 9 | V39: 5 | W39: 7 | X39: 1 | Y39: 141 | Z39: 65 | AA39: 97
A40: Tlaxcala | I40: 9 | J40: 2 | K40: 4 | L40: 10 | M40: 8 | N40: 5 | O40: 9 | P40: 6 | Q40: 20 | R40: 9 | S40: 3 | T40: 7 | U40: 2 | V40: 3 | W40: 5 | X40: 0 | Y40: 130 | Z40: 30 | AA40: 40
A41: Veracruz Norte | E41: 19 | F41: 12 | G41: 14 | H41: 15 | I41: 45 | J41: 45 | K41: 1 | L41: 53 | M41: 38 | N41: 27 | O41: 14 | P41: 16 | Q41: 36 | R41: 28 | S41: 13 | T41: 19 | U41: 18 | V41: 25 | W41: 21 | X41: 3 | Y41: 134 | Z41: 51 | AA41: 106
A42: Veracruz Sur | E42: 7 | F42: 2 | G42: 3 | H42: 15 | I42: 19 | J42: 7 | K42: 11 | L42: 32 | M42: 24 | N42: 20 | O42: 21 | P42: 14 | Q42: 26 | R42: 17 | S42: 3 | T42: 8 | U42: 9 | V42: 11 | W42: 18 | X42: 1 | Y42: 88 | Z42: 118 | AA42: 142
A43: Yucatán | B43: 64 | C43: 67 | D43: 18 | E43: 24 | F43: 12 | G43: 15 | H43: 24 | I43: 9 | J43: 27 | K43: 5 | L43: 54 | M43: 36 | N43: 27 | O43: 25 | P43: 29 | Q43: 33 | R43: 21 | S43: 27 | T43: 14 | U43: 9 | V43: 11 | W43: 27 | X43: 0 | Y43: 85 | Z43: 56 | AA43: 91
A44: Zacatecas | I44: 23 | J44: 8 | K44: 2 | L44: 9 | M44: 13 | N44: 11 | O44: 8 | P44: 7 | Q44: 30 | R44: 10 | T44: 6 | U44: 5 | V44: 8 | W44: 11 | X44: 3 | Y44: 18 | Z44: 43 | AA44: 48
...

Sheet VIII.10
A2: Cuadro No. VIII.10
A3: Metas abiertas durante 2003, seguimiento al 2025.
A4: OOAD | B4: Formación de directivos (1) - Postécnicos, Nutrición y Dietistas - Auxiliares de Enfermería
